{"text_format":"1","workbook":"xlsx","n_sheets":2,"sheets":["Score_ITA","CHART_ITA"],"not_rendered":{"charts":2,"images":2,"macros":1,"external_links":0,"defined_names":3,"comments":1,"pivot_tables":0},"unopened":[],"bounds":{"document_bytes":16777216,"sheet_cells":100000,"rows_first":2000,"rows_last":500,"rows_between":2000,"halvings":0,"cell_chars":16384,"cell_head_chars":4096},"cells_cut":0,"cells_raw":0,"read":"whole","date_system":"1900"}

{"sheet":"Score_ITA","index":0,"n_rows":128,"n_cols":10,"rows_kept":128,"cut":false,"hidden":false,"merged":[[107,5,109,5],[110,5,113,5],[12,5,14,5],[16,5,19,5],[20,5,22,5],[26,5,30,5],[1,8,1,9],[3,5,5,5],[6,5,8,5],[9,5,11,5],[2,6,14,6],[15,6,34,6],[31,5,34,5],[35,6,61,6],[62,6,83,6],[84,6,105,6],[106,6,127,6],[121,0,123,0],[125,0,127,0],[36,5,39,5],[41,5,43,5],[44,5,46,5],[47,5,49,5],[77,5,79,5],[89,5,93,5],[63,5,65,5],[66,5,69,5],[71,5,73,5],[74,5,76,5],[50,5,53,5],[54,5,56,5],[80,5,82,5],[114,5,117,5],[120,5,123,5],[124,5,127,5],[94,5,98,5],[99,5,103,5],[120,0,120,1],[124,0,124,1],[16,0,16,1],[23,0,23,1],[24,0,24,1],[25,0,25,1],[31,0,31,1],[40,0,40,1],[57,0,57,1],[58,0,58,1],[77,0,77,1],[80,0,80,1],[110,0,110,1],[114,0,114,1],[83,0,83,1],[84,0,84,1],[85,0,85,1],[86,0,86,1],[88,0,88,1],[89,0,89,1],[60,0,60,1],[61,0,61,1],[48,0,49,0],[51,0,53,0],[63,0,63,1],[66,0,66,1],[71,0,71,1],[74,0,74,1],[70,0,70,1],[64,0,65,0],[72,0,73,0],[67,0,69,0],[119,0,119,1],[108,0,109,0],[111,0,113,0],[115,0,117,0],[95,0,98,0],[100,0,103,0],[106,0,106,1],[107,0,107,1],[12,0,12,1],[15,0,15,1],[104,0,104,1],[105,0,105,1],[13,0,14,0],[17,0,19,0],[75,0,76,0],[78,0,79,0],[81,0,82,0],[90,0,93,0],[20,0,20,1],[26,0,26,1],[94,0,94,1],[99,0,99,1],[87,0,87,1],[21,0,22,0],[1,0,1,1],[10,0,11,0],[2,0,2,1],[3,0,3,1],[6,0,6,1],[9,0,9,1],[4,0,5,0],[7,0,8,0],[118,0,118,1],[27,0,30,0],[32,0,34,0],[45,0,46,0],[55,0,56,0],[35,0,35,1],[36,0,36,1],[41,0,41,1],[44,0,44,1],[37,0,39,0],[42,0,43,0],[47,0,47,1],[50,0,50,1],[54,0,54,1],[62,0,62,1],[59,0,59,1]]}
[]
[null,null,"Score",null,null,null,null,null,"TOT"]
["1 LEADERSHIP",null,{"$f":"C4+C7+C10+C13","v":0},null,{"$f":"IF(J3=\"\",\"\",J3*10)","v":""},null,{"$f":"IF(J3=\"\",\"\",J3*10)","v":""},null,{"$f":"I4+I7+I10+I13","v":0},{"$f":"IF(C3=\"\",\"\",IF(C3=0,IF(I3=0,\"\",0),C3/I3))","v":""}]
["1.1 Comprensione e coinvolgimento del Management Aziendale",null,{"$f":"SUM(C5:C6)","v":0},null,{"$f":"IF(J4=\"\",\"\",J4*10)","v":""},{"$f":"IF(J4=\"\",\"\",J4*10)","v":""},{"$f":"IF(L4=\"\",\"\",L4*10)","v":""},null,{"$f":"SUM(I5:I6)","v":0},{"$f":"IF(C4=\"\",\"\",IF(C4=0,IF(I4=0,\"\",0),C4/I4))","v":""}]
[null,"1.1.1 Grado di condivisione generale degli obiettivi",null,null,{"$f":"IF(J5=\"\",\"\",J5*10)","v":""},{"$f":"IF(K5=\"\",\"\",K5*10)","v":""},"",null,{"$f":"IF(C5<>\"\",4,0)","v":0},{"$f":"IF(C5=\"\",\"\",IF(C5=0,IF(I5=0,\"\",0),C5/I5))","v":""}]
[null,"1.1.2 Grado di coinvolgimento operativo",null,null,{"$f":"IF(J6=\"\",\"\",J6*10)","v":""},"","",null,{"$f":"IF(C6<>\"\",4,0)","v":0},""]
["1.2 Comprensione e coinvolgimento dei supervisori e operatori di linea",null,{"$f":"SUM(C8:C9)","v":0},null,"",{"$f":"IF(J7=\"\",\"\",J7*10)","v":""},"",null,{"$f":"SUM(I8:I9)","v":0},""]
[null,"1.2.1 Grado di condivisione generale degli obiettivi",null,null,"","","",null,{"$f":"IF(C8<>\"\",4,0)","v":0},""]
[null,"1.2.2 Grado di coinvolgimento operativo",null,null,"","","",null,{"$f":"IF(C9<>\"\",4,0)","v":0},""]
["1.3 Misura e revisione periodica del 5S",null,{"$f":"SUM(C11:C12)","v":0},null,"",{"$f":"IF(J10=\"\",\"\",J10*10)","v":""},"",null,{"$f":"SUM(I11:I12)","v":0},""]
[null,"1.3.1 Vi è evidenza di discussioni, revisioni, riunioni periodiche",null,null,"","","",null,{"$f":"IF(C11<>\"\",4,0)","v":0},""]
[null,"1.3.2 Vi è evidenza di azioni intraprese, pianificate, follow-up",null,null,"","","",null,{"$f":"IF(C12<>\"\",4,0)","v":0},""]
["1.4 Ordine e pulizia delle aree di passaggio, entrata e attesa – prima impressione di un visitatore esterno",null,{"$f":"SUM(C14:C15)","v":0},null,"",{"$f":"IF(J13=\"\",\"\",J13*10)","v":""},"",null,{"$f":"SUM(I14:I15)","v":0},""]
[null,"1.4.1 Aree e corridoi di accesso (ingresso)",null,null,"","","",null,{"$f":"IF(C14<>\"\",4,0)","v":0},""]
[null,"1.4.2 Aree di attesa/sosta",null,null,"","","",null,{"$f":"IF(C15<>\"\",4,0)","v":0},""]
["2 SEIRI (Separare)",null,{"$f":"C17+C21+C24+C25+C26+C27+C32","v":0},null,"",null,{"$f":"IF(J16=\"\",\"\",J16*10)","v":""},null,{"$f":"I17+I21+I24+I25+I26+I27+I32","v":0},""]
["2.1 L'area esterna si presenta ordinata e libera da ingombri e confusione",null,{"$f":"SUM(C18:C20)","v":0},null,"",{"$f":"IF(J17=\"\",\"\",J17*10)","v":""},"",null,{"$f":"SUM(I18:I20)","v":0},""]
[null,"2.1.1 L’area del giardino è ordinata",null,null,"","","",null,{"$f":"IF(C18<>\"\",4,0)","v":0},""]
[null,"2.1.2 Il magazzino esterno è ordinato",null,null,"","","",null,{"$f":"IF(C19<>\"\",4,0)","v":0},""]
[null,"2.1.3 Le aree esterne sono chiaramente marcate e delimitate",null,null,"","","",null,{"$f":"IF(C20<>\"\",4,0)","v":0},""]
["2.2 Il pavimento è libero e sgombro dai materiali non necessari.",null,{"$f":"SUM(C22:C23)","v":0},null,"",{"$f":"IF(J21=\"\",\"\",J21*10)","v":""},"",null,{"$f":"SUM(I22:I23)","v":0},""]
[null,"2.2.1 Tutto il pavimento è libero",null,null,"","","",null,{"$f":"IF(C22<>\"\",4,0)","v":0},""]
[null,"2.2.2 Le aree WIP sono identificabili",null,null,"","","",null,{"$f":"IF(C23<>\"\",4,0)","v":0},""]
["2.3 Le aree di lavorazione, gli armadi, le scaffalature, le tavole ecc. sono libere dai materiali non necessari",null,null,null,"",{"$f":"IF(J24=\"\",\"\",J24*10)","v":""},"",null,{"$f":"IF(C24<>\"\",4,0)","v":0},""]
["2.4 Gli articoli (materiali) sono immagazzinati e ordinati secondo la frequenza d’uso",null,null,null,"",{"$f":"IF(J25=\"\",\"\",J25*10)","v":""},"",null,{"$f":"IF(C25<>\"\",4,0)","v":0},""]
["2.5 Gli avvisi esposti sono aggiornati e chiari",null,null,null,"",{"$f":"IF(J26=\"\",\"\",J26*10)","v":""},"",null,{"$f":"IF(C26<>\"\",4,0)","v":0},""]
["2.6 Regole per l’ordinamento abituale: materiali/componenti/pezzi stoccati sono facilmente identificabili:",null,{"$f":"SUM(C28:C31)","v":0},null,"",{"$f":"IF(J27=\"\",\"\",J27*10)","v":""},"",null,{"$f":"SUM(I28:I31)","v":0},""]
[null,"2.6.1 Etichetta Rossa: stock lavorato",null,null,"","","",null,{"$f":"IF(C28<>\"\",4,0)","v":0},""]
[null,"2.6.2 Ordine standard mantenuto",null,null,"","","",null,{"$f":"IF(C29<>\"\",4,0)","v":0},""]
[null,"2.6.3 Compensazione regolare dei materiali/componenti mancanti",null,null,"","","",null,{"$f":"IF(C30<>\"\",4,0)","v":0},""]
[null,"2.6.4 Regolare evacuazione dei rifiuti e degli scarti di lavorazione",null,null,"","","",null,{"$f":"IF(C31<>\"\",4,0)","v":0},""]
["2.7 Ordine apparente:",null,{"$f":"SUM(C33:C35)","v":0},null,"",{"$f":"IF(J32=\"\",\"\",J32*10)","v":""},"",null,{"$f":"SUM(I33:I35)","v":0},""]
[null,"2.7.1 Aree di fabbrica (reparti)",null,null,"","","",null,{"$f":"IF(C33<>\"\",4,0)","v":0},""]
[null,"2.7.2 Aree di ufficio",null,null,"","","",null,{"$f":"IF(C34<>\"\",4,0)","v":0},""]
[null,"2.7.3 Superfici dei tavoli e dei banchi di lavoro",null,null,"","","",null,{"$f":"IF(C35<>\"\",4,0)","v":0},""]
["3 SEITON (Sistemare)",null,{"$f":"C37+C42+C41+C45+C48+C51+C55+SUM(C58:C62)","v":0},null,"",null,{"$f":"IF(J36=\"\",\"\",J36*10)","v":""},null,{"$f":"I37+I41+I42+I45+I48+I51+I55+SUM(I58:I62)","v":0},""]
["3.1 Le indicazioni di direzione per tutti i reparti e servizi sono disponibili e correttamente posizionate dall’entrata",null,{"$f":"SUM(C38:C40)","v":0},null,"",{"$f":"IF(J37=\"\",\"\",J37*10)","v":""},"",null,{"$f":"SUM(I38:I40)","v":0},""]
[null,"3.1.1 Direzione dell’entrata principale",null,null,"","","",null,{"$f":"IF(C38<>\"\",4,0)","v":0},""]
[null,"3.1.2 All’interno dei reparti",null,null,"","","",null,{"$f":"IF(C39<>\"\",4,0)","v":0},""]
[null,"3.1.3 Per tutti i servizi, toilets, magazzini, ecc…",null,null,"","","",null,{"$f":"IF(C40<>\"\",4,0)","v":0},""]
["3.2 Tutte le macchine hanno una etichetta identificativa",null,null,null,"",{"$f":"IF(J41=\"\",\"\",J41*10)","v":""},"",null,{"$f":"IF(C41<>\"\",4,0)","v":0},""]
["3.3 Tutti gli edifici, stanze, dipartimenti e aree simili sono chiaramente identificate o numerate",null,{"$f":"C43+C44","v":0},null,"",{"$f":"IF(J42=\"\",\"\",J42*10)","v":""},"",null,{"$f":"SUM(I43:I44)","v":0},""]
[null,"3.3.1 Stanze, reparti, unità identificabili",null,null,"","","",null,{"$f":"IF(C43<>\"\",4,0)","v":0},""]
[null,"3.3.2 Servizi igenici, mensa, ecc. identicabili",null,null,"","","",null,{"$f":"IF(C44<>\"\",4,0)","v":0},""]
["3.4 Tutti gli attrezzi / strumenti / contenitori sono disposti secondo i principi del “posso vederlo”, “posso prenderlo”, “posso riportarlo”. Gli elenchi sono aggiornati",null,{"$f":"C46+C47","v":0},null,"",{"$f":"IF(J45=\"\",\"\",J45*10)","v":""},"",null,{"$f":"SUM(I46:I47)","v":0},""]
[null,"3.4.1 I contorni sono segnati",null,null,"","","",null,{"$f":"IF(C46<>\"\",4,0)","v":0},""]
[null,"3.4.2 L’indice degli attrezzi/strumenti è disponibile",null,null,"","","",null,{"$f":"IF(C47<>\"\",4,0)","v":0},""]
["3.5 E’ applicato il “visual control” per i difetti",null,{"$f":"C49+C50","v":0},null,"",{"$f":"IF(J48=\"\",\"\",J48*10)","v":""},"",null,{"$f":"SUM(I49:I50)","v":0},""]
[null,"3.5.1 Identificabili per prevenire la confusione",null,null,"","","",null,{"$f":"IF(C49<>\"\",4,0)","v":0},""]
[null,"3.5.2 Identificabili per “accentuare” macro anomalie",null,null,"","","",null,{"$f":"IF(C50<>\"\",4,0)","v":0},""]
["3.6 Tutte le aree di passaggio sono chiaramente marcate e rispettate",null,{"$f":"SUM(C52:C54)","v":0},null,"",{"$f":"IF(J51=\"\",\"\",J51*10)","v":""},"",null,{"$f":"SUM(I52:I54)","v":0},""]
[null,"3.6.1 I corridoi e i passaggi sono liberi da ingombri",null,null,"","","",null,{"$f":"IF(C52<>\"\",4,0)","v":0},""]
[null,"3.6.2 Le postazioni di lavoro sono in linea retta",null,null,"","","",null,{"$f":"IF(C53<>\"\",4,0)","v":0},""]
[null,"3.6.3 La direzione di marcia è chiaramente indicata",null,null,"","","",null,{"$f":"IF(C54<>\"\",4,0)","v":0},""]
["3.7 Le aree di sosta sono identificate per i pallets, carrelli, bidoni di immondizia, i veicoli, ecc.",null,{"$f":"C56+C57","v":0},null,"",{"$f":"IF(J55=\"\",\"\",J55*10)","v":""},"",null,{"$f":"SUM(I56:I57)","v":0},""]
[null,"3.7.1 Vi sono aree riservate per ogni tipo di articolo in movimento",null,null,"","","",null,{"$f":"IF(C56<>\"\",4,0)","v":0},""]
[null,"3.7.2 Le aree di raccolta per l’immondizia, gli scarti e le rilavorazioni sono chiaramente identificate.",null,null,"","","",null,0,""]
["3.8 Gli interruttori, regolatori dei ventilatori, controlli, ecc. sono chiaramente identificati.",null,null,null,"",{"$f":"IF(J58=\"\",\"\",J58*10)","v":""},"",null,0,""]
["3.9 Tutti i cavi, fili, tubi ecc. sono puliti",null,null,null,"",{"$f":"IF(J59=\"\",\"\",J59*10)","v":""},"",null,0,""]
["3.10 E’ utilizzato un codice di colori per la facile identificazione",null,null,null,"",{"$f":"IF(J60=\"\",\"\",J60*10)","v":""},"",null,0,""]
["3.11 L’identificazione delle diverse apparecchiature è correttamente mantenuta",null,null,null,"",{"$f":"IF(J61=\"\",\"\",J61*10)","v":""},"",null,0,""]
["3.12 Impressione generale è di ordine con la  possibilità di trovare rapidamente gli articoli/documenti necessari",null,null,null,"",{"$f":"IF(J62=\"\",\"\",J62*10)","v":""},"",null,0,""]
["4 SEISO (Pulizia)",null,{"$f":"C64+C67+C71+C72+C75+C78+C81+C84","v":0},null,"",null,{"$f":"IF(J63=\"\",\"\",J63*10)","v":""},null,{"$f":"I64+I67+I71+I72+I75+I78+I81+I84","v":0},""]
["4.1 E’ implementata una strategia per la gestione dello spazzatura",null,{"$f":"C66+C65","v":0},null,"",{"$f":"IF(J64=\"\",\"\",J64*10)","v":""},"",null,{"$f":"SUM(I65:I66)","v":0},""]
[null,"4.1.1 I bidoni vengono svuotati a regolarmente",null,null,"","","",null,{"$f":"IF(C65<>\"\",4,0)","v":0},""]
[null,"4.1.2 Segnalati chiaramente",null,null,"","","",null,{"$f":"IF(C66<>\"\",4,0)","v":0},""]
["4.2 I pavimenti, muri, finestre, ecc… sono mantenuti a un alto livello di pulizia",null,{"$f":"SUM(C68:C70)","v":0},null,"",{"$f":"IF(J67=\"\",\"\",J67*10)","v":""},{"$f":"IF(L67=\"\",\"\",L67*10)","v":""},null,{"$f":"SUM(I68:I70)","v":0},""]
[null,"4.2.1 I pavimenti",null,null,"",{"$f":"IF(K68=\"\",\"\",K68*10)","v":""},"",null,{"$f":"IF(C68<>\"\",4,0)","v":0},""]
[null,"4.2.2 I Muri",null,null,"","","",null,0,{"$f":"IF(C69=\"\",\"\",IF(C69=0,IF(I69=0,\"\",0),C69/I69))","v":""}]
[null,"4.2.3 Le finestre, porte",null,null,{"$f":"IF(J70=\"\",\"\",J70*10)","v":""},"","",null,0,""]
["4.3 L’utilizzo abituale di sistemi e di attrezzature per la pulizia è evidente",null,null,null,"",{"$f":"IF(J71=\"\",\"\",J71*10)","v":""},"",null,0,""]
["4.4 Lo stoccaggio dei materiali e delle attrezzature per la pulizia è ben fatto.",null,{"$f":"C74+C73","v":0},null,"",{"$f":"IF(J72=\"\",\"\",J72*10)","v":""},"",null,{"$f":"SUM(I73:I74)","v":0},""]
[null,"4.4.1 Appendi scope, spazzoloni",null,null,"","","",null,0,""]
[null,"4.4.2 Stoccaggio materiali per la pulizia",null,null,"","","",null,0,""]
["4.5 Le macchine, le attrezzature, gli attrezzi sono mantenuti puliti e la pianificazione della manutenzione è esposta",null,{"$f":"C77+C76","v":0},null,"",{"$f":"IF(J75=\"\",\"\",J75*10)","v":""},"",null,{"$f":"SUM(I76:I77)","v":0},""]
[null,"4.5.1 Intervalli di manutenzione mantenuti",null,null,"","","",null,0,""]
[null,"4.5.2 Utilizzo di una check-list di controllo",null,null,"","","",null,0,""]
["4.6 L’attività di “autopulizia” (minimo 5 minuti) quotidiana è praticata",null,{"$f":"C80+C79","v":0},null,"",{"$f":"IF(J78=\"\",\"\",J78*10)","v":""},"",null,{"$f":"SUM(I79:I80)","v":0},""]
[null,"4.6.1 Autopulizia quotidiana",null,null,"","","",null,0,""]
[null,"4.6.2 Utilizzo di una check-list di controllo",null,null,"","","",null,0,""]
["4.7 La mappa delle responsabilità delle pulizie e la pianificazione è esposta",null,{"$f":"C83+C82","v":0},null,"",{"$f":"IF(J81=\"\",\"\",J81*10)","v":""},"",null,{"$f":"SUM(I82:I83)","v":0},""]
[null,"4.7.1 La mappa dei responsabili delle pulizie è esposta",null,null,"","","",null,0,""]
[null,"4.7.2 La frequenza (pianificazione) delle pulizie è esposta",null,null,"","","",null,0,""]
["4.8 L’impressione generale è di pulizia diffusa a 360°.",null,null,null,"",{"$f":"IF(J84=\"\",\"\",J84*10)","v":""},"",null,0,""]
["5 SEIKETSU (STANDARDIZZAZIONE)",null,{"$f":"SUM(C86:C90)+C95+C100+C105+C106","v":0},null,"",null,{"$f":"IF(J85=\"\",\"\",J85*10)","v":""},null,{"$f":"SUM(I86:I90)+I95+I100+I105+I106","v":0},""]
["5.1 Tutte le procedure (SOP) 5S sono definite e standardizzate",null,null,null,"",{"$f":"IF(J86=\"\",\"\",J86*10)","v":""},"",null,0,""]
["5.2 Vengono utilizzate delle checklist di audit periodiche",null,null,null,"",{"$f":"IF(J87=\"\",\"\",J87*10)","v":""},"",null,0,""]
["5.3 Tutte le etichette, gli avvisi, le disposizioni sono standardizzate",null,null,null,"",{"$f":"IF(J88=\"\",\"\",J88*10)","v":""},"",null,0,""]
["5.4 Tutti i corridoi/piattaforme/aree hanno una dimensione e un colore standardizzato",null,null,null,"",{"$f":"IF(J89=\"\",\"\",J89*10)","v":""},"",null,0,""]
["5.5 Gestione “a vista” standardizzata ed evidente",null,{"$f":"SUM(C91:C94)","v":0},null,"",{"$f":"IF(J90=\"\",\"\",J90*10)","v":""},"",null,{"$f":"SUM(I91:I94)","v":0},""]
[null,"5.5.1 Indicazione del flusso sui tubi di liquidi/aria/gas",null,null,"","","",null,0,""]
[null,"5.5.2 I segnali di direzione “aperta”/”chiusa” sono visibili",null,null,"","","",null,0,""]
[null,"5.5.3 Le aree pericolose sono chiaramente identificabili",null,null,"","","",null,0,""]
[null,"5.5.4 I liquidi pericolosi (es. petrolio) sono identificabili",null,null,"","","",null,0,""]
["5.6 Gli estintori antincendio (idranti) sono chiaramente identificati e facilmente raggiungibili",null,{"$f":"SUM(C96:C99)","v":0},null,"",{"$f":"IF(J95=\"\",\"\",J95*10)","v":""},"",null,{"$f":"SUM(I96:I99)","v":0},""]
[null,"5.6.1 Indicazione del tipo",null,null,"","","",null,0,""]
[null,"5.6.2 Facilmente accessibili",null,null,"","","",null,0,""]
[null,"5.6.3 Visibili ad una distanza adeguata",null,null,"","","",null,0,""]
[null,"5.6.4 Verificati (testati) alla frequenza appropriata",null,null,"","","",null,0,""]
["5.7 Cartelli e segnali standard adeguati",null,{"$f":"SUM(C101:C104)","v":0},null,"",{"$f":"IF(J100=\"\",\"\",J100*10)","v":""},"",null,{"$f":"SUM(I101:I104)","v":0},""]
[null,"5.7.1 Segnali di divieto",null,null,"","","",null,0,""]
[null,"5.7.2 Segnali di pericolo",null,null,"","","",null,0,""]
[null,"5.7.3 Prescrizioni di sicurezza",null,null,"","","",null,0,""]
[null,"5.7.4 Indicazione chiara delle “vie di fuga”",null,null,"","","",null,0,""]
["5.8 I tubi, cavi ecc. sono colorati secondo uno standard definito",null,null,null,"",{"$f":"IF(J105=\"\",\"\",J105*10)","v":""},"",null,0,""]
["5.9 Esiste e viene utilizzata una procedura di verifica e controllo standard",null,null,null,"",{"$f":"IF(J106=\"\",\"\",J106*10)","v":""},"",null,0,""]
["6 SHITSUKE (MANTENIMENTO)",null,{"$f":"C108+C111+C115+SUM(C119:C121)+C125","v":0},null,"",null,{"$f":"IF(J107=\"\",\"\",J107*10)","v":""},null,{"$f":"I108+I111+I115+SUM(I119:I121)+I125","v":0},""]
["6.1 Vi sono programmi di addestramento sistematici",null,{"$f":"C110+C109","v":0},null,"",{"$f":"IF(J108=\"\",\"\",J108*10)","v":""},"",null,{"$f":"SUM(I109:I110)","v":0},""]
[null,"6.1.1 Evidenze del training",null,null,"","","",null,{"$f":"IF(C109<>\"\",4,0)","v":0},""]
[null,"6.1.2 Evidenze di follow-up",null,null,"","","",null,{"$f":"IF(C110<>\"\",4,0)","v":0},""]
["6.2 Esiste un team che periodicamente esegue revisioni e audit sul 5S",null,{"$f":"SUM(C112:C114)","v":0},null,"",{"$f":"IF(J111=\"\",\"\",J111*10)","v":""},"",null,{"$f":"SUM(I112:I114)","v":0},""]
[null,"6.2.1 Teams formalmente costituiti e operanti",null,null,"","","",null,{"$f":"IF(C112<>\"\",4,0)","v":0},""]
[null,"6.2.2 Risultati / Fotografie di ispezioni esposte",null,null,"","","",null,{"$f":"IF(C113<>\"\",4,0)","v":0},""]
[null,"6.2.3 Esempi positivi esposti",null,null,"","","",null,{"$f":"IF(C114<>\"\",4,0)","v":0},""]
["6.3 Sono visibili manifesti 5S e “pro-memoria” 5S nelle postazioni di lavoro",null,{"$f":"SUM(C116:C118)","v":0},null,"",{"$f":"IF(J115=\"\",\"\",J115*10)","v":""},"",null,{"$f":"SUM(I116:I118)","v":0},""]
[null,"6.3.1 Manifesti nelle aree di lavoro",null,null,"","","",null,{"$f":"IF(C116<>\"\",4,0)","v":0},""]
[null,"6.3.2 Manifesti nelle aree dei servizi (mensa, coffee points) ",null,null,"","","",null,{"$f":"IF(C117<>\"\",4,0)","v":0},""]
[null,"6.3.3 Pro-memoria nelle postazioni di lavoro",null,null,"","","",null,{"$f":"IF(C118<>\"\",4,0)","v":0},""]
["6.4 Esiste un sistema adeguato e disciplinato con l’utilizzo di adesivi “punto positivo” e “punto negativo”.",null,null,null,"",{"$f":"IF(J119=\"\",\"\",J119*10)","v":""},"",null,{"$f":"IF(C119<>\"\",4,0)","v":0},""]
["6.5 La disciplina nell’applicazione del 5S è evidente anche all’interno della forza lavoro",null,null,null,"",{"$f":"IF(J120=\"\",\"\",J120*10)","v":""},"",null,{"$f":"IF(C120<>\"\",4,0)","v":0},""]
["6.6 Vi sono teams  impegnati in progetti 5S",null,{"$f":"SUM(C122:C124)","v":0},null,"",{"$f":"IF(J121=\"\",\"\",J121*10)","v":""},"",null,{"$f":"SUM(I122:I124)","v":0},""]
[null,"6.6.1 Impegnati in piccole attività di gruppo",null,null,"","","",null,{"$f":"IF(C122<>\"\",4,0)","v":0},""]
[null,"6.6.2 Attività secondo lo schema KAIZEN",null,null,"","","",null,{"$f":"IF(C123<>\"\",4,0)","v":0},""]
[null,"6.6.3 Teams e progetti  esposti",null,null,"","","",null,{"$f":"IF(C124<>\"\",4,0)","v":0},""]
["6.7 Dotazioni e utilizzo dotazioni di sicurezza (SAFETY)",null,{"$f":"SUM(C126:C128)","v":0},null,"",{"$f":"IF(J125=\"\",\"\",J125*10)","v":""},"",null,{"$f":"SUM(I126:I128)","v":0},""]
[null,"6.7.1 Uniforme (Vestiario)",null,null,"","","",null,{"$f":"IF(C126<>\"\",4,0)","v":0},""]
[null,"6.7.2 Scarpe antinfortunistiche",null,null,"","","",null,{"$f":"IF(C127<>\"\",4,0)","v":0},""]
[null,"6.7.3 Dispositivi di protezione individuale",null,null,"","","",null,{"$f":"IF(C128<>\"\",4,0)","v":0},""]

{"sheet":"CHART_ITA","index":1,"n_rows":57,"n_cols":8,"rows_kept":57,"cut":false,"hidden":false,"merged":[[28,0,36,0],[37,0,46,0],[47,0,54,0],[55,0,56,1],[0,1,0,18],[2,0,6,0],[7,0,14,0],[15,0,27,0],[1,0,1,1]]}
[null,"PUNTEGGIO  + RADAR CHART 5S"]
[null,null,"Score","Previous","TARGET"]
["1 LEADERSHIP","1.1",{"$f":"Score_ITA!F4","v":""}]
[null,"1.2",{"$f":"Score_ITA!F7","v":""}]
[null,"1.3",{"$f":"Score_ITA!F10","v":""},null,null,null,null,{"$f":"A3","v":"1 LEADERSHIP"}]
[null,"1.4",{"$f":"Score_ITA!F13","v":""},null,null,null,null,{"$f":"A8","v":"2 SEIRI (Separare)"}]
[null,"1",{"$f":"Score_ITA!G3","v":""},null,null,null,null,{"$f":"A16","v":"3 SEITON (Sistemare)"}]
["2 SEIRI (Separare)","2.1",{"$f":"Score_ITA!F17","v":""},null,null,null,null,{"$f":"A29","v":"4 SEISO (Pulizia)"}]
[null,"2.2",{"$f":"Score_ITA!F21","v":""},null,null,null,null,{"$f":"A38","v":"5 SEIKETSU (Standardizzazione)"}]
[null,"2.3",{"$f":"Score_ITA!F24","v":""},null,null,null,null,{"$f":"A48","v":"6 SHITSUKE (MANTENIMENTO)"}]
[null,"2.4",{"$f":"Score_ITA!F25","v":""}]
[null,"2.5",{"$f":"Score_ITA!F26","v":""}]
[null,"2.6",{"$f":"Score_ITA!F27","v":""}]
[null,"2.7",{"$f":"Score_ITA!F32","v":""}]
[null,"2",{"$f":"Score_ITA!G16","v":""}]
["3 SEITON (Sistemare)","3.1",{"$f":"Score_ITA!F37","v":""}]
[null,"3.2",{"$f":"Score_ITA!F41","v":""}]
[null,"3.3",{"$f":"Score_ITA!F42","v":""}]
[null,"3.4",{"$f":"Score_ITA!F45","v":""}]
[null,"3.5",{"$f":"Score_ITA!F48","v":""}]
[null,"3.6",{"$f":"Score_ITA!F51","v":""}]
[null,"3.7",{"$f":"Score_ITA!F55","v":""}]
[null,"3.8",{"$f":"Score_ITA!F58","v":""}]
[null,"3.9",{"$f":"Score_ITA!F59","v":""}]
[null,"3.10",{"$f":"Score_ITA!F60","v":""}]
[null,"3.11",{"$f":"Score_ITA!F61","v":""}]
[null,"3.12",{"$f":"Score_ITA!F62","v":""}]
[null,"3",{"$f":"Score_ITA!G36","v":""}]
["4 SEISO (Pulizia)","4.1",{"$f":"Score_ITA!F64","v":""}]
[null,"4.2",{"$f":"Score_ITA!F67","v":""}]
[null,"4.3",{"$f":"Score_ITA!F71","v":""}]
[null,"4.4",{"$f":"Score_ITA!F72","v":""}]
[null,"4.5",{"$f":"Score_ITA!F75","v":""}]
[null,"4.6",{"$f":"Score_ITA!F78","v":""}]
[null,"4.7",{"$f":"Score_ITA!F81","v":""}]
[null,"4.8",{"$f":"Score_ITA!F84","v":""}]
[null,"4",{"$f":"Score_ITA!G63","v":""}]
["5 SEIKETSU (Standardizzazione)","5.1",{"$f":"Score_ITA!F86","v":""}]
[null,"5.2",{"$f":"Score_ITA!F87","v":""}]
[null,"5.3",{"$f":"Score_ITA!F88","v":""}]
[null,"5.4",{"$f":"Score_ITA!F89","v":""}]
[null,"5.5",{"$f":"Score_ITA!F90","v":""}]
[null,"5.6",{"$f":"Score_ITA!F95","v":""}]
[null,"5.7",{"$f":"Score_ITA!F100","v":""}]
[null,"5.8",{"$f":"Score_ITA!F105","v":""}]
[null,"5.9",{"$f":"Score_ITA!F106","v":""}]
[null,"5",{"$f":"Score_ITA!G85","v":""}]
["6 SHITSUKE (MANTENIMENTO)","6.1",{"$f":"Score_ITA!F108","v":""}]
[null,"6.2",{"$f":"Score_ITA!F111","v":""}]
[null,"6.3",{"$f":"Score_ITA!F115","v":""}]
[null,"6.4",{"$f":"Score_ITA!F119","v":""}]
[null,"6.5",{"$f":"Score_ITA!F120","v":""}]
[null,"6.6",{"$f":"Score_ITA!F121","v":""}]
[null,"6.7",{"$f":"Score_ITA!F125","v":""}]
[null,"6",{"$f":"Score_ITA!G107","v":""}]
["TOTALE",null,{"$f":"C7+C15+C28+C37+C47+C55","v":{"$error":"#VALUE!"}},{"$f":"D7+D15+D28+D37+D47+D55","v":0},{"$f":"E7+E15+E28+E37+E47+E55","v":0}]
[null,null,{"$f":"C56/60","v":{"$error":"#VALUE!"}},{"$f":"D56/60","v":0},{"$f":"E56/60","v":0}]